BEGIN:VCALENDAR
VERSION:2.0
PRODID:-//CLUB1987 - ECPv6.9.0//NONSGML v1.0//EN
CALSCALE:GREGORIAN
METHOD:PUBLISH
X-WR-CALNAME:CLUB1987
X-ORIGINAL-URL:https://club1987.com
X-WR-CALDESC:Evenementen voor CLUB1987
REFRESH-INTERVAL;VALUE=DURATION:PT1H
X-Robots-Tag:noindex
X-PUBLISHED-TTL:PT1H
BEGIN:VTIMEZONE
TZID:Europe/Amsterdam
BEGIN:DAYLIGHT
TZOFFSETFROM:+0100
TZOFFSETTO:+0200
TZNAME:CEST
DTSTART:20210328T010000
END:DAYLIGHT
BEGIN:STANDARD
TZOFFSETFROM:+0200
TZOFFSETTO:+0100
TZNAME:CET
DTSTART:20211031T010000
END:STANDARD
END:VTIMEZONE
BEGIN:VEVENT
DTSTART;TZID=Europe/Amsterdam:20211218T140000
DTEND;TZID=Europe/Amsterdam:20211218T180000
DTSTAMP:20260424T165947
CREATED:20211218T121322Z
LAST-MODIFIED:20211218T121324Z
UID:1941-1639836000-1639850400@club1987.com
SUMMARY:Vinylized
DESCRIPTION:Vinylized\, the Art of DJ-ing with 5 DJs.\nDNS – IRIE – SETIONO – COLDCRUSH – J-DAW.
URL:https://club1987.com/event/vinylized/
END:VEVENT
END:VCALENDAR