BEGIN:VCALENDAR
VERSION:2.0
PRODID:-//CLUB1987 - ECPv6.9.0//NONSGML v1.0//EN
CALSCALE:GREGORIAN
METHOD:PUBLISH
X-WR-CALNAME:CLUB1987
X-ORIGINAL-URL:https://club1987.com
X-WR-CALDESC:Evenementen voor CLUB1987
REFRESH-INTERVAL;VALUE=DURATION:PT1H
X-Robots-Tag:noindex
X-PUBLISHED-TTL:PT1H
BEGIN:VTIMEZONE
TZID:Europe/Amsterdam
BEGIN:DAYLIGHT
TZOFFSETFROM:+0100
TZOFFSETTO:+0200
TZNAME:CEST
DTSTART:20220327T010000
END:DAYLIGHT
BEGIN:STANDARD
TZOFFSETFROM:+0200
TZOFFSETTO:+0100
TZNAME:CET
DTSTART:20221030T010000
END:STANDARD
END:VTIMEZONE
BEGIN:VEVENT
DTSTART;TZID=Europe/Amsterdam:20220114T210000
DTEND;TZID=Europe/Amsterdam:20220114T233000
DTSTAMP:20260424T152849
CREATED:20220112T133327Z
LAST-MODIFIED:20220112T133412Z
UID:1971-1642194000-1642203000@club1987.com
SUMMARY:Franky Friday by DJ Arthrosis
DESCRIPTION:Funky House mixed by DJ Arthrosis\, keep on rockin!
URL:https://club1987.com/event/franky-friday-by-dj-arthrosis/
END:VEVENT
END:VCALENDAR