BEGIN:VCALENDAR
VERSION:2.0
PRODID:-//CLUB1987 - ECPv6.9.0//NONSGML v1.0//EN
CALSCALE:GREGORIAN
METHOD:PUBLISH
X-WR-CALNAME:CLUB1987
X-ORIGINAL-URL:https://club1987.com
X-WR-CALDESC:Evenementen voor CLUB1987
REFRESH-INTERVAL;VALUE=DURATION:PT1H
X-Robots-Tag:noindex
X-PUBLISHED-TTL:PT1H
BEGIN:VTIMEZONE
TZID:UTC
BEGIN:STANDARD
TZOFFSETFROM:+0000
TZOFFSETTO:+0000
TZNAME:UTC
DTSTART:20210101T000000
END:STANDARD
END:VTIMEZONE
BEGIN:VEVENT
DTSTART;TZID=UTC:20211211T210000
DTEND;TZID=UTC:20211211T233000
DTSTAMP:20260424T213613
CREATED:20211211T123242Z
LAST-MODIFIED:20211211T123243Z
UID:1880-1639256400-1639265400@club1987.com
SUMMARY:DJ EZD Video State Of Mind Weekend Tunes ! ! !
DESCRIPTION:
URL:https://club1987.com/event/dj-ezd-video-state-of-mind-weekend-tunes/
END:VEVENT
BEGIN:VEVENT
DTSTART;TZID=UTC:20211210T210000
DTEND;TZID=UTC:20211210T230000
DTSTAMP:20260424T213613
CREATED:20211210T154845Z
LAST-MODIFIED:20211210T154845Z
UID:1843-1639170000-1639177200@club1987.com
SUMMARY:Franky Friday 49 Virtual Dance
DESCRIPTION:First session in Room 1 of CLUB1987. \n2 hour Funky House mixed by DJ Arhtrosis.
URL:https://club1987.com/event/franky-friday-49-virtual-dance/
END:VEVENT
END:VCALENDAR